BEGIN:VCALENDAR
VERSION:2.0
PRODID:-//TAGNW - ECPv6.6.4.2//NONSGML v1.0//EN
CALSCALE:GREGORIAN
METHOD:PUBLISH
X-WR-CALNAME:TAGNW
X-ORIGINAL-URL:https://www.tagnw.org
X-WR-CALDESC:Events for TAGNW
REFRESH-INTERVAL;VALUE=DURATION:PT1H
X-Robots-Tag:noindex
X-PUBLISHED-TTL:PT1H
BEGIN:VTIMEZONE
TZID:America/Los_Angeles
BEGIN:DAYLIGHT
TZOFFSETFROM:-0800
TZOFFSETTO:-0700
TZNAME:PDT
DTSTART:20230312T100000
END:DAYLIGHT
BEGIN:STANDARD
TZOFFSETFROM:-0700
TZOFFSETTO:-0800
TZNAME:PST
DTSTART:20231105T090000
END:STANDARD
END:VTIMEZONE
BEGIN:VEVENT
DTSTART;TZID=America/Los_Angeles:20231025T120000
DTEND;TZID=America/Los_Angeles:20231025T133000
DTSTAMP:20260419T132132
CREATED:20231005T212942Z
LAST-MODIFIED:20231005T212942Z
UID:8863-1698235200-1698240600@www.tagnw.org
SUMMARY:October Lunch & Learn: Hiring & Getting Hired for Gig Work in Tech
DESCRIPTION:A pizza lunch is included with your donation! Click here to register! \nIntrigued by the world of gig work in the tech industry? Whether you’re a tech professional looking to secure more gig opportunities or a business seeking to tap into the gig economy\, our October Lunch and Learn event is for you! \nJoin us for an insightful discussion where you will get valuable insights\, tips\, and strategies for both job seekers and employers navigating the gig landscape in the technology field. \nKey Topics: \n\nNavigating Gig Opportunities: Learn how to find\, apply for\, and excel in tech gig roles.\nUnderstanding & Negotiating Pay: Explore day rates\, bidding and pay in gig work.\nHiring Gig Workers: Discover effective strategies for recruiting and onboarding gig professionals.\n\nThis Lunch and Learn event is perfect for: \n\nTech professionals exploring gig work options\nEmployers interested in leveraging gig talent\nFreelancers\, contractors\, and gig workers in the tech field\nIndividuals looking to expand their network in the tech industry\n\nDon’t miss this opportunity to delve into the world of gig work in technology\, share your experiences\, and connect with like-minded professionals. Bring your questions and enthusiasm to this engaging and informative event. \nABOUT OUR SPEAKER: CRYSTAL GARCIA\, EXECUTIVE DIRECTOR\, TAG NW \nThis month\, come meet TAG NW’s new Executive Director\, Crystal Garcia. Crystal has a rich background in hiring and managing gig workers in the technology industry. As a live streaming and virtual events producer\, she has been hiring and managing gig workers for small and large organizations on projects ranging from single events to long term\, recurring events and projects. Crystal is passionate about inclusivity in the tech industry and breaking down barriers for opportunity. She has utilized gig work to further her own career and expand her industry knowledge and experience while pursuing higher education and managing seasons of parenting that made jobs with traditional employment hours inaccessible.
URL:https://www.tagnw.org/calendar/october-lunch-learn-hiring-getting-hired-for-gig-work-in-tech/
LOCATION:Stateside\, 929 North State Street\, Bellingham\, 98225\, United States
CATEGORIES:Community,TAG,Women in Tech
ORGANIZER;CN="TAG":MAILTO:info@tagnw.org
END:VEVENT
END:VCALENDAR