BEGIN:VCALENDAR
VERSION:2.0
PRODID:-//TAGNW - ECPv6.6.4.2//NONSGML v1.0//EN
CALSCALE:GREGORIAN
METHOD:PUBLISH
X-WR-CALNAME:TAGNW
X-ORIGINAL-URL:https://www.tagnw.org
X-WR-CALDESC:Events for TAGNW
REFRESH-INTERVAL;VALUE=DURATION:PT1H
X-Robots-Tag:noindex
X-PUBLISHED-TTL:PT1H
BEGIN:VTIMEZONE
TZID:America/Los_Angeles
BEGIN:DAYLIGHT
TZOFFSETFROM:-0800
TZOFFSETTO:-0700
TZNAME:PDT
DTSTART:20200308T100000
END:DAYLIGHT
BEGIN:STANDARD
TZOFFSETFROM:-0700
TZOFFSETTO:-0800
TZNAME:PST
DTSTART:20201101T090000
END:STANDARD
TZID:UTC
BEGIN:STANDARD
TZOFFSETFROM:+0000
TZOFFSETTO:+0000
TZNAME:UTC
DTSTART:20200101T000000
END:STANDARD
END:VTIMEZONE
BEGIN:VEVENT
DTSTART;TZID=America/Los_Angeles:20200818T190000
DTEND;TZID=America/Los_Angeles:20200818T203000
DTSTAMP:20260419T135305
CREATED:20200810T215859Z
LAST-MODIFIED:20200810T232222Z
UID:6782-1597777200-1597782600@www.tagnw.org
SUMMARY:TAG Cybersecurity
DESCRIPTION:The TAG Cybersecurity August meeting features the presentation Life on the Red Team with Matt Shannon and James Kubli from Boeing. \nJoin hosts David Hirsch and Carl Willis-Ford for TAG Cybersecurity each month on the third Tuesday at 7pm. We’ll feature TAG and cybersecurity news and announcements\, a featured presentation\, and open discussion. All are welcome to join us. \nFor our August meeting\, we welcome Matt Shannon and James Kubli\, Red Team Assessors at Boeing for their presentation Life on the Red Team. Matt and James will describe what a “red team” is\, why it’s important for a large enterprise to have one\, and how it’s different from penetration testing. They will talk about some of the tools and techniques used by red team members\, and how the red team work is organized within the larger enterprise to improve overall security. In addition\, they will describe the balance between hands-on technical work and high-level analysis for a typical red team member. \nZoom Meeting Details:\nhttps://us02web.zoom.us/j/127090769?pwd=WG9LY04zK0tTNSsyK0E1SjdGZk0yZz09\nMeeting ID: 127 090 769\nPasscode: 830587\nOne tap mobile: +12532158782\,\,127090769#\,\,\,\,\,\,0#\,\,830587# US (Tacoma)\nPhone: +1 253 215 8782 US (Tacoma)\nFind your local number: https://us02web.zoom.us/u/kvOjBuQ5h
URL:https://www.tagnw.org/calendar/tag-cybersecurity-2020-08-18/
LOCATION:Virtual
CATEGORIES:Cybersecurity,TAG
ORGANIZER;CN="TAG Cybersecurity":MAILTO:carlwf@gmail.com
END:VEVENT
BEGIN:VEVENT
DTSTART;TZID=America/Los_Angeles:20200721T190000
DTEND;TZID=America/Los_Angeles:20200721T203000
DTSTAMP:20260419T135305
CREATED:20200721T194655Z
LAST-MODIFIED:20200721T194655Z
UID:6759-1595358000-1595363400@www.tagnw.org
SUMMARY:TAG Cybersecurity
DESCRIPTION:Join us virtually for our TAG Cybersecurity July 2020 Meeting with guest speaker Travis McEwen\, Associate Professor at Whatcom Community College\, as he presents Containers & Container Security. An overview of what containers are\, how they work followed by an overview of the security of containers and the different security needs. Discussion at the TAG Community Hub. Direct Zoom Link.
URL:https://www.tagnw.org/calendar/tag-cybersecurity-july-2020/
LOCATION:Virtual
CATEGORIES:Cybersecurity,TAG
ORGANIZER;CN="TAG Cybersecurity":MAILTO:carlwf@gmail.com
END:VEVENT
BEGIN:VEVENT
DTSTART;TZID=America/Los_Angeles:20200519T190000
DTEND;TZID=America/Los_Angeles:20200519T203000
DTSTAMP:20260419T135305
CREATED:20200506T075523Z
LAST-MODIFIED:20200506T110247Z
UID:6618-1589914800-1589920200@www.tagnw.org
SUMMARY:TAG Cybersecurity
DESCRIPTION:Join us virtually for our TAG Cybersecurity May 2020 Meeting featuring Erik Fretheim of Western Washington University (WWU) as he presents Writing software that is secure by design. All are welcome. \nPresentation abstract: Most developers focus primarily on getting software out the door\, and address security issues as they find out about them. The principles of secure software development allow you to create software that treats security as part of the design process\, not as a bolted-on fix at the end\, or in version 2.0. These principles can be applied in very large software projects\, with dedicated security-focused developers\, or in your one-person app-development side gig. Come and learn from Erik how we can improve everyone’s security at the front end.
URL:https://www.tagnw.org/calendar/tag-cybersecurity-2020-05-19/
LOCATION:Virtual
CATEGORIES:Community,Cybersecurity,TAG
ORGANIZER;CN="TAG Cybersecurity":MAILTO:carlwf@gmail.com
END:VEVENT
BEGIN:VEVENT
DTSTART;TZID=UTC:20200421T190000
DTEND;TZID=UTC:20200421T203000
DTSTAMP:20260419T135305
CREATED:20200401T080823Z
LAST-MODIFIED:20200421T013904Z
UID:6233-1587495600-1587501000@www.tagnw.org
SUMMARY:TAG Cybersecurity
DESCRIPTION:Join us virtually for our April TAG Cybersecurity Meeting featuring Kathleen Jungck\, Deputy CISO at F5 and her presentation Zero Trust Architecture: what it is\, and how to start implementing it. \nLearn why we should not treat our LAN as a safe\, trusted zone behind the firewall.  Instead\, we should design for a world where no device is inherently trusted based solely on its location or IP address\, and Kathleen will provide some concrete steps and technologies for implementing such a design. \nAbout TAG Cybersecurity \nA TAG Community Group focused on Cybersecurity. Comprising regional cybersecurity professionals\, faculty\, and students. We’ll meet monthly for presentations\, discuss cybersecurity topics\, provide support for students entering the field\, and organize community service events. \nFull Zoom Details \nTopic: TAG Cybersecurity\nTime: Apr 21\, 2020 07:00 PM Pacific Time (US and Canada) \nJoin Zoom Meeting\nhttps://us02web.zoom.us/j/127090769?pwd=WG9LY04zK0tTNSsyK0E1SjdGZk0yZz09 \nMeeting ID: 127 090 769\nPassword: 830587\nOne tap mobile\n+16699006833\,\,127090769# US (San Jose)\n+13462487799\,\,127090769# US (Houston) \nDial by your location\n+1 669 900 6833 US (San Jose)\n+1 346 248 7799 US (Houston)\n+1 929 205 6099 US (New York)\n+1 253 215 8782 US\n+1 301 715 8592 US\n+1 312 626 6799 US (Chicago)\nMeeting ID: 127 090 769\nFind your local number: https://us02web.zoom.us/u/kzM7GbGP2
URL:https://www.tagnw.org/calendar/tag-cybersecurity-2020-04-21/
LOCATION:Virtual
CATEGORIES:Cybersecurity,TAG
ORGANIZER;CN="TAG Cybersecurity":MAILTO:carlwf@gmail.com
END:VEVENT
END:VCALENDAR